Package: SRAdb Version: 1.68.1 Command: /Library/Frameworks/R.framework/Resources/bin/R CMD check --install=check:SRAdb.install-out.txt --library=/Library/Frameworks/R.framework/Resources/library --no-vignettes --timings SRAdb_1.68.1.tar.gz StartedAt: 2025-01-28 10:57:10 -0500 (Tue, 28 Jan 2025) EndedAt: 2025-01-28 10:58:20 -0500 (Tue, 28 Jan 2025) EllapsedTime: 70.3 seconds RetCode: 0 Status: OK CheckDir: SRAdb.Rcheck Warnings: 0