Package: SQLDataFrame Version: 1.20.0 Command: /home/biocbuild/R/R/bin/R CMD check --install=check:SQLDataFrame.install-out.txt --library=/home/biocbuild/R/R/site-library --no-vignettes --timings SQLDataFrame_1.20.0.tar.gz StartedAt: 2025-01-28 11:36:34 -0000 (Tue, 28 Jan 2025) EndedAt: 2025-01-28 11:39:28 -0000 (Tue, 28 Jan 2025) EllapsedTime: 173.2 seconds RetCode: 0 Status: WARNINGS CheckDir: SQLDataFrame.Rcheck Warnings: 2