Package: SQLDataFrame Version: 1.20.0 Command: /home/biocbuild/R/R/bin/R CMD build --keep-empty-dirs --no-resave-data SQLDataFrame StartedAt: 2025-02-04 03:18:01 -0000 (Tue, 04 Feb 2025) EndedAt: 2025-02-04 03:18:40 -0000 (Tue, 04 Feb 2025) EllapsedTime: 39.1 seconds RetCode: 0 Status: OK PackageFile: SQLDataFrame_1.20.0.tar.gz PackageFileSize: 261 KiB