Package: SPsimSeq Version: 1.16.0 Command: /home/biocbuild/R/R/bin/R CMD check --install=check:SPsimSeq.install-out.txt --library=/home/biocbuild/R/R/site-library --no-vignettes --timings SPsimSeq_1.16.0.tar.gz StartedAt: 2025-01-31 10:44:00 -0000 (Fri, 31 Jan 2025) EndedAt: 2025-01-31 10:51:41 -0000 (Fri, 31 Jan 2025) EllapsedTime: 460.5 seconds RetCode: 0 Status: OK CheckDir: SPsimSeq.Rcheck Warnings: 0