Package: SPsimSeq Version: 1.16.0 Command: /Library/Frameworks/R.framework/Resources/bin/R CMD check --install=check:SPsimSeq.install-out.txt --library=/Library/Frameworks/R.framework/Resources/library --no-vignettes --timings SPsimSeq_1.16.0.tar.gz StartedAt: 2025-02-01 10:49:44 -0500 (Sat, 01 Feb 2025) EndedAt: 2025-02-01 10:56:52 -0500 (Sat, 01 Feb 2025) EllapsedTime: 427.6 seconds RetCode: 0 Status: OK CheckDir: SPsimSeq.Rcheck Warnings: 0