Package: SPOTlight Version: 1.10.0 Command: /home/biocbuild/R/R/bin/R CMD build --keep-empty-dirs --no-resave-data SPOTlight StartedAt: 2025-01-28 03:36:33 -0000 (Tue, 28 Jan 2025) EndedAt: 2025-01-28 03:40:18 -0000 (Tue, 28 Jan 2025) EllapsedTime: 225.1 seconds RetCode: 0 Status: OK PackageFile: SPOTlight_1.10.0.tar.gz PackageFileSize: 2.099 MiB