Package: SPOTlight Version: 1.10.0 Command: /home/biocbuild/bbs-3.20-bioc/R/bin/R CMD check --install=check:SPOTlight.install-out.txt --library=/home/biocbuild/bbs-3.20-bioc/R/site-library --timings SPOTlight_1.10.0.tar.gz StartedAt: 2025-02-04 02:51:36 -0500 (Tue, 04 Feb 2025) EndedAt: 2025-02-04 02:58:16 -0500 (Tue, 04 Feb 2025) EllapsedTime: 400.4 seconds RetCode: 0 Status: OK CheckDir: SPOTlight.Rcheck Warnings: 0