Package: SPOTlight Version: 1.10.0 Command: /Library/Frameworks/R.framework/Resources/bin/R CMD check --install=check:SPOTlight.install-out.txt --library=/Library/Frameworks/R.framework/Resources/library --no-vignettes --timings SPOTlight_1.10.0.tar.gz StartedAt: 2025-04-02 10:08:36 -0400 (Wed, 02 Apr 2025) EndedAt: 2025-04-02 10:14:08 -0400 (Wed, 02 Apr 2025) EllapsedTime: 331.7 seconds RetCode: 0 Status: OK CheckDir: SPOTlight.Rcheck Warnings: 0