Package: SPOTlight Version: 1.10.0 Command: /Library/Frameworks/R.framework/Resources/bin/R CMD build --keep-empty-dirs --no-resave-data SPOTlight StartedAt: 2025-04-01 08:36:18 -0400 (Tue, 01 Apr 2025) EndedAt: 2025-04-01 08:39:57 -0400 (Tue, 01 Apr 2025) EllapsedTime: 218.5 seconds RetCode: 0 Status: OK PackageFile: SPOTlight_1.10.0.tar.gz PackageFileSize: 4.477 MiB