Package: SPONGE Version: 1.28.0 Command: /home/biocbuild/R/R/bin/R CMD check --install=check:SPONGE.install-out.txt --library=/home/biocbuild/R/R/site-library --no-vignettes --timings SPONGE_1.28.0.tar.gz StartedAt: 2025-02-11 10:43:57 -0000 (Tue, 11 Feb 2025) EndedAt: 2025-02-11 10:51:06 -0000 (Tue, 11 Feb 2025) EllapsedTime: 428.6 seconds RetCode: 0 Status: WARNINGS CheckDir: SPONGE.Rcheck Warnings: 5