Package: SPONGE Version: 1.28.0 Command: rm -rf SPONGE.buildbin-libdir && mkdir SPONGE.buildbin-libdir && F:\biocbuild\bbs-3.20-bioc\R\bin\R.exe CMD INSTALL --build --library=SPONGE.buildbin-libdir SPONGE_1.28.0.tar.gz StartedAt: 2025-01-28 09:14:57 -0500 (Tue, 28 Jan 2025) EndedAt: 2025-01-28 09:16:36 -0500 (Tue, 28 Jan 2025) EllapsedTime: 99.5 seconds RetCode: 0 Status: OK PackageFile: SPONGE_1.28.0.zip PackageFileSize: 8.424 MiB