Package: SPLINTER Version: 1.32.0 Command: rm -rf SPLINTER.buildbin-libdir && mkdir SPLINTER.buildbin-libdir && /Users/biocbuild/BBS/utils/build-universal.sh SPLINTER_1.32.0.tar.gz /Library/Frameworks/R.framework/Resources/bin/R SPLINTER.buildbin-libdir StartedAt: 2025-04-01 12:50:58 -0400 (Tue, 01 Apr 2025) EndedAt: 2025-04-01 12:52:40 -0400 (Tue, 01 Apr 2025) EllapsedTime: 102.5 seconds RetCode: 0 Status: OK PackageFile: SPLINTER_1.32.0.tgz PackageFileSize: 1.083 MiB