Package: SPIAT Version: 1.8.0 Command: chmod a+r SPIAT -R && F:\biocbuild\bbs-3.20-bioc\R\bin\R.exe CMD build --keep-empty-dirs --no-resave-data SPIAT StartedAt: 2025-01-27 22:09:10 -0500 (Mon, 27 Jan 2025) EndedAt: 2025-01-27 22:13:09 -0500 (Mon, 27 Jan 2025) EllapsedTime: 239.8 seconds RetCode: 0 Status: OK PackageFile: SPIAT_1.8.0.tar.gz PackageFileSize: 4.475 MiB