Package: SPIAT Version: 1.8.0 Command: /Library/Frameworks/R.framework/Resources/bin/R CMD INSTALL SPIAT StartedAt: 2025-01-27 15:45:48 -0500 (Mon, 27 Jan 2025) EndedAt: 2025-01-27 15:46:21 -0500 (Mon, 27 Jan 2025) EllapsedTime: 32.7 seconds RetCode: 0 Status: OK