Package: SPEM Version: 1.46.0 Command: /Library/Frameworks/R.framework/Resources/bin/R CMD INSTALL SPEM StartedAt: 2025-03-31 15:14:51 -0400 (Mon, 31 Mar 2025) EndedAt: 2025-03-31 15:14:55 -0400 (Mon, 31 Mar 2025) EllapsedTime: 3.7 seconds RetCode: 0 Status: OK