Package: SOMNiBUS Version: 1.14.2 Command: /home/biocbuild/R/R/bin/R CMD build --keep-empty-dirs --no-resave-data SOMNiBUS StartedAt: 2025-01-28 03:29:32 -0000 (Tue, 28 Jan 2025) EndedAt: 2025-01-28 03:33:15 -0000 (Tue, 28 Jan 2025) EllapsedTime: 223.1 seconds RetCode: 0 Status: OK PackageFile: SOMNiBUS_1.14.2.tar.gz PackageFileSize: 1.09 MiB