Package: SNPhood Version: 1.36.0 Command: /Library/Frameworks/R.framework/Resources/bin/R CMD INSTALL SNPhood StartedAt: 2025-03-31 15:37:57 -0400 (Mon, 31 Mar 2025) EndedAt: 2025-03-31 15:40:03 -0400 (Mon, 31 Mar 2025) EllapsedTime: 126.7 seconds RetCode: 0 Status: OK