Package: SNPhood Version: 1.36.0 Command: rm -rf SNPhood.buildbin-libdir && mkdir SNPhood.buildbin-libdir && /Users/biocbuild/BBS/utils/build-universal.sh SNPhood_1.36.0.tar.gz /Library/Frameworks/R.framework/Resources/bin/R SNPhood.buildbin-libdir StartedAt: 2025-01-29 16:41:41 -0500 (Wed, 29 Jan 2025) EndedAt: 2025-01-29 16:43:02 -0500 (Wed, 29 Jan 2025) EllapsedTime: 80.7 seconds RetCode: 0 Status: OK PackageFile: SNPhood_1.36.0.tgz PackageFileSize: 8.652 MiB