Package: SNPediaR Version: 1.32.0 Command: /home/biocbuild/R/R/bin/R CMD INSTALL SNPediaR StartedAt: 2025-01-27 21:08:18 -0000 (Mon, 27 Jan 2025) EndedAt: 2025-01-27 21:08:51 -0000 (Mon, 27 Jan 2025) EllapsedTime: 33.4 seconds RetCode: 0 Status: OK