Package: SNPediaR Version: 1.32.0 Command: rm -rf SNPediaR.buildbin-libdir && mkdir SNPediaR.buildbin-libdir && /Users/biocbuild/BBS/utils/build-universal.sh SNPediaR_1.32.0.tar.gz /Library/Frameworks/R.framework/Resources/bin/R SNPediaR.buildbin-libdir StartedAt: 2025-01-28 14:38:48 -0500 (Tue, 28 Jan 2025) EndedAt: 2025-01-28 14:38:55 -0500 (Tue, 28 Jan 2025) EllapsedTime: 6.4 seconds RetCode: 0 Status: OK PackageFile: SNPediaR_1.32.0.tgz PackageFileSize: 244 KiB