Package: SNPRelate Version: 1.39.0 Command: chmod a+r SNPRelate -R && F:\biocbuild\bbs-3.20-bioc\R\bin\R.exe CMD build --keep-empty-dirs --no-resave-data SNPRelate StartedAt: 2024-06-09 22:29:05 -0400 (Sun, 09 Jun 2024) EndedAt: 2024-06-09 22:31:20 -0400 (Sun, 09 Jun 2024) EllapsedTime: 135.2 seconds RetCode: 0 Status: OK PackageFile: SNPRelate_1.39.0.tar.gz PackageFileSize: 1.914 MiB