Package: SNPRelate Version: 1.40.0 Command: /home/biocbuild/bbs-3.20-bioc/R/bin/R CMD INSTALL SNPRelate StartedAt: 2025-02-10 15:15:22 -0500 (Mon, 10 Feb 2025) EndedAt: 2025-02-10 15:15:58 -0500 (Mon, 10 Feb 2025) EllapsedTime: 35.9 seconds RetCode: 0 Status: OK