Package: SNPRelate Version: 1.40.0 Command: /home/biocbuild/bbs-3.20-bioc/R/bin/R CMD build --keep-empty-dirs --no-resave-data --md5 SNPRelate StartedAt: 2025-02-10 19:16:36 -0500 (Mon, 10 Feb 2025) EndedAt: 2025-02-10 19:17:25 -0500 (Mon, 10 Feb 2025) EllapsedTime: 48.1 seconds RetCode: 0 Status: OK PackageFile: SNPRelate_1.40.0.tar.gz PackageFileSize: 3.305 MiB