Package: SNPRelate Version: 1.40.0 Command: /Library/Frameworks/R.framework/Resources/bin/R CMD INSTALL SNPRelate StartedAt: 2025-02-03 15:16:26 -0500 (Mon, 03 Feb 2025) EndedAt: 2025-02-03 15:17:10 -0500 (Mon, 03 Feb 2025) EllapsedTime: 44.4 seconds RetCode: 0 Status: OK