Package: SNPRelate Version: 1.40.0 Command: /Library/Frameworks/R.framework/Resources/bin/R CMD INSTALL SNPRelate StartedAt: 2024-11-19 15:06:43 -0500 (Tue, 19 Nov 2024) EndedAt: 2024-11-19 15:07:12 -0500 (Tue, 19 Nov 2024) EllapsedTime: 28.5 seconds RetCode: 0 Status: OK