Package: SNPRelate Version: 1.40.0 Command: rm -rf SNPRelate.buildbin-libdir && mkdir SNPRelate.buildbin-libdir && /Users/biocbuild/BBS/utils/build-universal.sh SNPRelate_1.40.0.tar.gz /Library/Frameworks/R.framework/Resources/bin/R SNPRelate.buildbin-libdir StartedAt: 2024-11-20 04:52:46 -0500 (Wed, 20 Nov 2024) EndedAt: 2024-11-20 04:53:29 -0500 (Wed, 20 Nov 2024) EllapsedTime: 42.3 seconds RetCode: 0 Status: OK PackageFile: SNPRelate_1.40.0.tgz PackageFileSize: 3.826 MiB