Package: SNPRelate Version: 1.40.0 Command: /Library/Frameworks/R.framework/Resources/bin/R CMD build --keep-empty-dirs --no-resave-data SNPRelate StartedAt: 2024-11-08 19:12:26 -0500 (Fri, 08 Nov 2024) EndedAt: 2024-11-08 19:12:44 -0500 (Fri, 08 Nov 2024) EllapsedTime: 17.2 seconds RetCode: 0 Status: OK PackageFile: SNPRelate_1.40.0.tar.gz PackageFileSize: 3.33 MiB