Package: SNPRelate Version: 1.40.0 Command: /Library/Frameworks/R.framework/Resources/bin/R CMD build --keep-empty-dirs --no-resave-data SNPRelate StartedAt: 2025-02-04 08:38:50 -0500 (Tue, 04 Feb 2025) EndedAt: 2025-02-04 08:39:46 -0500 (Tue, 04 Feb 2025) EllapsedTime: 56.2 seconds RetCode: 0 Status: OK PackageFile: SNPRelate_1.40.0.tar.gz PackageFileSize: 3.348 MiB