Package: SNAGEE Version: 1.46.0 Command: /home/biocbuild/R/R/bin/R CMD build --keep-empty-dirs --no-resave-data SNAGEE StartedAt: 2025-01-28 03:28:20 -0000 (Tue, 28 Jan 2025) EndedAt: 2025-01-28 03:30:32 -0000 (Tue, 28 Jan 2025) EllapsedTime: 132.1 seconds RetCode: 0 Status: OK PackageFile: SNAGEE_1.46.0.tar.gz PackageFileSize: 165.4 KiB