Package: SNAGEE Version: 1.46.0 Command: F:\biocbuild\bbs-3.20-bioc\R\bin\R.exe CMD INSTALL SNAGEE StartedAt: 2025-01-27 15:25:49 -0500 (Mon, 27 Jan 2025) EndedAt: 2025-01-27 15:25:59 -0500 (Mon, 27 Jan 2025) EllapsedTime: 10.5 seconds RetCode: 0 Status: OK