Package: SNAGEE Version: 1.46.0 Command: /home/biocbuild/bbs-3.20-bioc/R/bin/R CMD check --install=check:SNAGEE.install-out.txt --library=/home/biocbuild/bbs-3.20-bioc/R/site-library --timings SNAGEE_1.46.0.tar.gz StartedAt: 2025-04-01 02:22:47 -0400 (Tue, 01 Apr 2025) EndedAt: 2025-04-01 02:23:42 -0400 (Tue, 01 Apr 2025) EllapsedTime: 55.0 seconds RetCode: 0 Status: OK CheckDir: SNAGEE.Rcheck Warnings: 0