Package: SNAGEE Version: 1.46.0 Command: /home/biocbuild/bbs-3.20-bioc/R/bin/R CMD build --keep-empty-dirs --no-resave-data --md5 SNAGEE StartedAt: 2025-01-27 20:09:17 -0500 (Mon, 27 Jan 2025) EndedAt: 2025-01-27 20:09:48 -0500 (Mon, 27 Jan 2025) EllapsedTime: 31.1 seconds RetCode: 0 Status: OK PackageFile: SNAGEE_1.46.0.tar.gz PackageFileSize: 170 KiB