Package: SNAGEE Version: 1.46.0 Command: /Library/Frameworks/R.framework/Resources/bin/R CMD check --install=check:SNAGEE.install-out.txt --library=/Library/Frameworks/R.framework/Resources/library --no-vignettes --timings SNAGEE_1.46.0.tar.gz StartedAt: 2024-11-20 02:50:21 -0500 (Wed, 20 Nov 2024) EndedAt: 2024-11-20 02:54:37 -0500 (Wed, 20 Nov 2024) EllapsedTime: 255.6 seconds RetCode: 0 Status: OK CheckDir: SNAGEE.Rcheck Warnings: 0