Package: SNAGEE Version: 1.46.0 Command: /Library/Frameworks/R.framework/Resources/bin/R CMD INSTALL SNAGEE StartedAt: 2025-02-03 15:08:44 -0500 (Mon, 03 Feb 2025) EndedAt: 2025-02-03 15:08:47 -0500 (Mon, 03 Feb 2025) EllapsedTime: 3.0 seconds RetCode: 0 Status: OK