Package: SNAGEE Version: 1.46.0 Command: /Library/Frameworks/R.framework/Resources/bin/R CMD check --install=check:SNAGEE.install-out.txt --library=/Library/Frameworks/R.framework/Resources/library --no-vignettes --timings SNAGEE_1.46.0.tar.gz StartedAt: 2025-01-29 09:39:12 -0500 (Wed, 29 Jan 2025) EndedAt: 2025-01-29 09:39:55 -0500 (Wed, 29 Jan 2025) EllapsedTime: 43.0 seconds RetCode: 0 Status: OK CheckDir: SNAGEE.Rcheck Warnings: 0