Package: SNAGEE Version: 1.46.0 Command: rm -rf SNAGEE.buildbin-libdir && mkdir SNAGEE.buildbin-libdir && /Users/biocbuild/BBS/utils/build-universal.sh SNAGEE_1.46.0.tar.gz /Library/Frameworks/R.framework/Resources/bin/R SNAGEE.buildbin-libdir StartedAt: 2025-02-05 17:53:51 -0500 (Wed, 05 Feb 2025) EndedAt: 2025-02-05 17:53:54 -0500 (Wed, 05 Feb 2025) EllapsedTime: 3.5 seconds RetCode: 0 Status: OK PackageFile: SNAGEE_1.46.0.tgz PackageFileSize: 186.9 KiB