Package: SMITE Version: 1.34.0 Command: /home/biocbuild/bbs-3.20-bioc/R/bin/R CMD build --keep-empty-dirs --no-resave-data --md5 SMITE StartedAt: 2025-01-27 20:09:15 -0500 (Mon, 27 Jan 2025) EndedAt: 2025-01-27 20:10:25 -0500 (Mon, 27 Jan 2025) EllapsedTime: 70.1 seconds RetCode: 0 Status: OK PackageFile: SMITE_1.34.0.tar.gz PackageFileSize: 3.089 MiB