Package: SMITE Version: 1.34.0 Command: /Library/Frameworks/R.framework/Resources/bin/R CMD INSTALL SMITE StartedAt: 2025-03-31 16:39:35 -0400 (Mon, 31 Mar 2025) EndedAt: 2025-03-31 16:40:27 -0400 (Mon, 31 Mar 2025) EllapsedTime: 52.0 seconds RetCode: 0 Status: OK