Package: SMAD Version: 1.22.0 Command: /home/biocbuild/bbs-3.20-bioc/R/bin/R CMD check --install=check:SMAD.install-out.txt --library=/home/biocbuild/bbs-3.20-bioc/R/site-library --timings SMAD_1.22.0.tar.gz StartedAt: 2025-01-28 03:20:44 -0500 (Tue, 28 Jan 2025) EndedAt: 2025-01-28 03:21:38 -0500 (Tue, 28 Jan 2025) EllapsedTime: 54.0 seconds RetCode: 0 Status: OK CheckDir: SMAD.Rcheck Warnings: 0