Package: SMAD Version: 1.22.0 Command: /Library/Frameworks/R.framework/Resources/bin/R CMD INSTALL SMAD StartedAt: 2025-01-27 15:14:45 -0500 (Mon, 27 Jan 2025) EndedAt: 2025-01-27 15:14:58 -0500 (Mon, 27 Jan 2025) EllapsedTime: 13.3 seconds RetCode: 0 Status: OK