Package: SMAD Version: 1.22.0 Command: /Library/Frameworks/R.framework/Resources/bin/R CMD check --install=check:SMAD.install-out.txt --library=/Library/Frameworks/R.framework/Resources/library --no-vignettes --timings SMAD_1.22.0.tar.gz StartedAt: 2025-02-05 10:42:12 -0500 (Wed, 05 Feb 2025) EndedAt: 2025-02-05 10:43:15 -0500 (Wed, 05 Feb 2025) EllapsedTime: 62.7 seconds RetCode: 0 Status: WARNINGS CheckDir: SMAD.Rcheck Warnings: 1