Package: SMAD Version: 1.22.0 Command: /Library/Frameworks/R.framework/Resources/bin/R CMD build --keep-empty-dirs --no-resave-data SMAD StartedAt: 2025-01-28 08:22:43 -0500 (Tue, 28 Jan 2025) EndedAt: 2025-01-28 08:23:07 -0500 (Tue, 28 Jan 2025) EllapsedTime: 24.1 seconds RetCode: 0 Status: OK PackageFile: SMAD_1.22.0.tar.gz PackageFileSize: 397 KiB