Package: SLqPCR Version: 1.72.0 Command: /Library/Frameworks/R.framework/Resources/bin/R CMD check --install=check:SLqPCR.install-out.txt --library=/Library/Frameworks/R.framework/Resources/library --no-vignettes --timings SLqPCR_1.72.0.tar.gz StartedAt: 2024-11-09 13:42:13 -0500 (Sat, 09 Nov 2024) EndedAt: 2024-11-09 13:46:05 -0500 (Sat, 09 Nov 2024) EllapsedTime: 232.3 seconds RetCode: 0 Status: OK CheckDir: SLqPCR.Rcheck Warnings: 0