Package: SLqPCR Version: 1.72.0 Command: rm -rf SLqPCR.buildbin-libdir && mkdir SLqPCR.buildbin-libdir && /Users/biocbuild/BBS/utils/build-universal.sh SLqPCR_1.72.0.tar.gz /Library/Frameworks/R.framework/Resources/bin/R SLqPCR.buildbin-libdir StartedAt: 2024-11-09 17:12:59 -0500 (Sat, 09 Nov 2024) EndedAt: 2024-11-09 17:13:00 -0500 (Sat, 09 Nov 2024) EllapsedTime: 1.0 seconds RetCode: 0 Status: OK PackageFile: SLqPCR_1.72.0.tgz PackageFileSize: 236.6 KiB