Package: SIMLR Version: 1.32.0 Command: /home/biocbuild/R/R/bin/R CMD INSTALL SIMLR StartedAt: 2025-02-03 20:25:45 -0000 (Mon, 03 Feb 2025) EndedAt: 2025-02-03 20:26:23 -0000 (Mon, 03 Feb 2025) EllapsedTime: 37.4 seconds RetCode: 0 Status: OK