Package: SIMLR Version: 1.32.0 Command: /home/biocbuild/R/R/bin/R CMD build --keep-empty-dirs --no-resave-data SIMLR StartedAt: 2025-02-04 03:01:46 -0000 (Tue, 04 Feb 2025) EndedAt: 2025-02-04 03:04:02 -0000 (Tue, 04 Feb 2025) EllapsedTime: 136.2 seconds RetCode: 0 Status: OK PackageFile: SIMLR_1.32.0.tar.gz PackageFileSize: 4.099 MiB