Package: SIMLR Version: 1.32.0 Command: /home/biocbuild/bbs-3.20-bioc/R/bin/R CMD build --keep-empty-dirs --no-resave-data --md5 SIMLR StartedAt: 2025-03-31 19:09:02 -0400 (Mon, 31 Mar 2025) EndedAt: 2025-03-31 19:10:46 -0400 (Mon, 31 Mar 2025) EllapsedTime: 104.1 seconds RetCode: 0 Status: OK PackageFile: SIMLR_1.32.0.tar.gz PackageFileSize: 4.122 MiB