Package: SIMLR Version: 1.32.0 Command: /Library/Frameworks/R.framework/Resources/bin/R CMD INSTALL SIMLR StartedAt: 2025-01-27 15:13:37 -0500 (Mon, 27 Jan 2025) EndedAt: 2025-01-27 15:14:42 -0500 (Mon, 27 Jan 2025) EllapsedTime: 65.3 seconds RetCode: 0 Status: OK