Package: SIMLR Version: 1.32.0 Command: /Library/Frameworks/R.framework/Resources/bin/R CMD build --keep-empty-dirs --no-resave-data SIMLR StartedAt: 2025-01-28 08:10:07 -0500 (Tue, 28 Jan 2025) EndedAt: 2025-01-28 08:12:40 -0500 (Tue, 28 Jan 2025) EllapsedTime: 153.1 seconds RetCode: 0 Status: OK PackageFile: SIMLR_1.32.0.tar.gz PackageFileSize: 4.095 MiB