Package: SIMD Version: 1.24.0 Command: F:\biocbuild\bbs-3.20-bioc\R\bin\R.exe CMD check --no-multiarch --install=check:SIMD.install-out.txt --library=F:\biocbuild\bbs-3.20-bioc\R\library --no-vignettes --timings SIMD_1.24.0.tar.gz StartedAt: 2025-04-01 06:02:23 -0400 (Tue, 01 Apr 2025) EndedAt: 2025-04-01 06:02:56 -0400 (Tue, 01 Apr 2025) EllapsedTime: 33.8 seconds RetCode: 0 Status: OK CheckDir: SIMD.Rcheck Warnings: 0